BEGIN:VCALENDAR
VERSION:2.0
PRODID:-//KTH Finance Society - ECPv6.15.20//NONSGML v1.0//EN
CALSCALE:GREGORIAN
METHOD:PUBLISH
X-WR-CALNAME:KTH Finance Society
X-ORIGINAL-URL:https://kthfinancesociety.org
X-WR-CALDESC:Events for KTH Finance Society
REFRESH-INTERVAL;VALUE=DURATION:PT1H
X-Robots-Tag:noindex
X-PUBLISHED-TTL:PT1H
BEGIN:VTIMEZONE
TZID:UTC
BEGIN:STANDARD
TZOFFSETFROM:+0000
TZOFFSETTO:+0000
TZNAME:UTC
DTSTART:20250101T000000
END:STANDARD
END:VTIMEZONE
BEGIN:VEVENT
DTSTART;TZID=UTC:20260506T163000
DTEND;TZID=UTC:20260506T190000
DTSTAMP:20260426T042113
CREATED:20260402T023431Z
LAST-MODIFIED:20260402T074859Z
UID:5258-1778085000-1778094000@kthfinancesociety.org
SUMMARY:The GAIN Summer Insight Soirée
DESCRIPTION:Note: This event will take place in Swedish \nVälkommen till en kväll där vi fördjupar oss i maskineriet bakom framgångsrika investeringar! \nVi lämnar grunderna bakom oss för att istället fokusera på de strategiska beslut och visioner som krävs för att bygga morgondagens bolag. \n​Vi lovar en kväll av: \n\n\n​Impact & Vision: Om investeringsbranschens unika kraft att driva verklig samhällsförändring. \n\n\n​Deep-dive Investment Cases: Exklusiva inblickar i riktiga case; från den första idén och analysen till internationell skalning. \n\n\n​Initierade Paneler: Samtal om marknadsläget och vägen framåt för nästa generations professionella investerare. \n\n\n​Networking & Drinks: Kvalitativt mingel med dryck och tilltugg tillsammans med ett skarpt community. \nUnder kvällen kommer du höra från några av Nordens vassaste investerare! Håll utkik i våra kanaler för den officiella lineupen som presenteras inom kort. \nOSA redan nu för att anmäla ditt intresse.
URL:https://kthfinancesociety.org/event/the-gain-summer-insight-soiree/
LOCATION:Norrsken House Stockholm\, Birger Jarlsgatan 57C\, Stockholm\, 113 56\, Sweden
END:VEVENT
END:VCALENDAR